BEGIN:VCALENDAR
METHOD:PUBLISH
VERSION:2.0
CALSCALE:GREGORIAN
PRODID:-//NONSGML WPForms//NONSGML Sugar Calendar Feeds v3.11.0//EN
X-WR-CALNAME:PAINT-amp-SIP-WITH-BECKY-BUMP
X-WR-CALDESC:The Carpenter&#039\;s House
X-WR-TIMEZONE:UTC
BEGIN:VTIMEZONE
TZID:UTC
BEGIN:STANDARD
TZOFFSETFROM:+0000
TZOFFSETTO:+0000
DTSTART:20260829T060000
TZNAME:UTC
END:STANDARD
END:VTIMEZONE
BEGIN:VTIMEZONE
TZID:UTC
BEGIN:STANDARD
TZOFFSETFROM:+0000
TZOFFSETTO:+0000
DTSTART:20260829T060000
TZNAME:UTC
END:STANDARD
END:VTIMEZONE
BEGIN:VEVENT
SUMMARY:PAINT &amp\; SIP WITH BECKY BUMP
DESCRIPTION:Join us for an evening Paint and Sip class with Becky Bump.\
 n\n\n\nThis relaxed\, step-by-step painting experience is designed for a
 dults looking to unwind\, connect\, and create. Whether you’re coming 
 with friends\, on a date\, or just want a creative night out\, you’ll 
 be guided through creating your own version of the featured painting in 
 a welcoming atmosphere.\n\n\n\n\nTickets Coming Soon\n\n\n\n\n\n\n\n\nWH
 AT TO EXPECT\n\nGuided\, step-by-step painting instruction\n\n\n\nA rela
 xed\, social evening environment\n\n\n\nMusic and a creative atmosphere\
 n\n\n\nBeverages available during the event\n\n\n\nTime to complete and 
 take home your painting\n\n\n\n\n\n\n\nTICKET INCLUDES\n\nOne seat in th
 e workshop\n\n\n\nAll painting materials (canvas\, paints\, brushes\, su
 pplies)\n\n\n\n11x14 canvas to take home\n\n\n\nFull guided instruction\
 n\n\n\nAccess to the Paint n’ Sip experience\n\n\n\n\n\n\n\n\n\n\n\n\n
 \nREGISTRATION \nEach ticket is valid for one participant and includes a
 ll materials required for the workshop. All attendees must have a ticket
  and will complete their own project unless otherwise specified.\n\n\n\n
 \n\n\nARRIVAL &amp\; TIMING\nPlease arrive 10–15 minutes prior to the 
 scheduled start time. Workshops begin promptly to ensure the best experi
 ence for all participants.\n\n\n\n\n\n\nMINIMUM ATTENDANCE\nWorkshops re
 quire a minimum number of participants to run. If minimum attendance is 
 not met\, the event may be rescheduled or canceled. All ticket holders w
 ill be notified in advance and offered transfer or credit options.\n\n\n
 \n\n\n\nREFUND &amp\; TRANSFER\nTickets are non-refundable. If you are u
 nable to attend\, please contact us in advance. When possible\, we will 
 accommodate transfers or provide credit toward a future workshop.\n\n\n\
 n\n\n\n\n\nMATERIALS &amp\; CLEANUP\nAll materials are provided unless o
 therwise noted. Participants are expected to respect the space and assis
 t with basic cleanup as directed.\n\n\n\n\n\n\nLIABILITY &amp\; RESPONSI
 BILITY\nWorkshops involve hands-on creative activity. By attending\, par
 ticipants acknowledge and accept responsibility for their personal safet
 y and belongings during the event.\n\n\n\n\n\n\nBEVERAGE SERVICE\nAlcoho
 lic beverages may be available for purchase during this event. Valid ID 
 is required for alcohol service. Please enjoy responsibly.
URL;VALUE=URI:https://thecarpenters.house/sc_recurring_event/monthly-pai
 nt-and-sip-with-becky-bump/
UID:urn:uuid:78e70e3f-ed41-4e2e-9c77-828f3c5526eb
STATUS:CONFIRMED
ORGANIZER:
DTSTAMP:20260424T154546Z
DTSTART;TZID=UTC:20270227T180000
DTEND;TZID=UTC:20270227T200000
RRULE:FREQ=MONTHLY;INTERVAL=1
LOCATION:212 Legion Way SW
END:VEVENT
END:VCALENDAR