BEGIN:VCALENDAR
METHOD:PUBLISH
VERSION:2.0
CALSCALE:GREGORIAN
PRODID:-//NONSGML WPForms//NONSGML Sugar Calendar Feeds v3.11.0//EN
X-WR-CALNAME:OPEN-PAINT-STUDIO
X-WR-CALDESC:The Carpenter&#039\;s House
X-WR-TIMEZONE:UTC
BEGIN:VTIMEZONE
TZID:UTC
BEGIN:STANDARD
TZOFFSETFROM:+0000
TZOFFSETTO:+0000
DTSTART:20260313T220000
TZNAME:UTC
END:STANDARD
END:VTIMEZONE
BEGIN:VTIMEZONE
TZID:UTC
BEGIN:STANDARD
TZOFFSETFROM:+0000
TZOFFSETTO:+0000
DTSTART:20260313T220000
TZNAME:UTC
END:STANDARD
END:VTIMEZONE
BEGIN:VEVENT
SUMMARY:OPEN PAINT STUDIO
DESCRIPTION:Join us for an open-format painting session designed for art
 ists of all skill levels. The Open Paint Studio offers a welcoming\, col
 laborative environment where you can work on your own piece while surrou
 nded by a creative community.\n\n\n\nEach session is facilitated by a Ho
 use Artist who is available throughout the evening to provide guidance\,
  feedback\, and technique support as needed. Whether you’re just getti
 ng started or refining your craft\, this is a space to explore\, learn\,
  and create at your own pace.\n\n\n\nYour ticket includes access to a fu
 lly equipped workspace with easels\, brushes\, and other non-consumable 
 tools. Paint\, canvases\, and other consumable materials are available f
 or purchase on-site.\n\n\n\nBring your ideas\, works-in-progress\, or st
 art something new—this is your time to create.\n\n\n\n\n\n\n\nWHAT TO 
 EXPECT\n\nA relaxed\, open studio environment with flexible creative fre
 edom\n\n\n\nAccess to shared tools including easels\, brushes\, palettes
 \, and workspace\n\n\n\nA House Artist facilitator available for guidanc
 e\, technique support\, and feedback\n\n\n\nOpportunities to collaborate
 \, connect\, and learn from other artists\n\n\n\nOptional purchase of ca
 nvases\, paints\, and other materials on-site\n\n\n\nA come-as-you-are a
 tmosphere ideal for beginners through experienced artists\n\n\n\n\n\n\n\
 nTICKET INCLUDES\n\nReserved workspace for the duration of the session\n
 \n\n\nAccess to all non-consumable studio tools (easels\, brushes\, pale
 ttes\, etc.)\n\n\n\nGuidance and support from a House Artist facilitator
 \n\n\n\nParticipation in a collaborative creative environment\n\n\n\n\nO
 ptional Add-Ons: \n\n\n\n\n$10 Canvas \n\n\n\n$10 Paints Palette\, fille
 d once \n\n\n\n$3 Paint color refill\n\n\n\n\n\n\n\n\n\n\n\n\n\nREGISTRA
 TION \nEach ticket is valid for one participant and includes access to a
  reserved workspace and shared studio tools. This workshop is open-forma
 t\; participants are responsible for their own creative direction and pr
 oject.\n\n\n\nConsumable materials such as canvases and paint are not in
 cluded and may be purchased on-site or brought from home unless otherwis
 e specified.\n\n\n\n\n\n\nARRIVAL &amp\; TIMING\nParticipants may arrive
  at or slightly before the scheduled start time. Sessions are designed t
 o be flexible\, but attendees are encouraged to arrive early to maximize
  their creative time.\n\n\n\nAll participants must conclude their work a
 nd begin cleanup within the final 10–15 minutes of the session.\n\n\n\
 n\n\n\nSTUDIO ENVIRONMENT\,  EXPECTATIONS\, &amp\; RESPONSIBILITY \nThe 
 Open Paint Studio is a shared\, collaborative environment. \n\n\n\nParti
 cipants are expected to:\n\n\n\n\nBe mindful of shared resources and wor
 kspace boundaries\n\n\n\nRespect the space\, tools\, and fellow artists\
 n\n\n\nMaintain a constructive and encouraging atmosphere\n\n\n\n\nThis 
 is a guided open studio\, not a structured class. The House Artist facil
 itator is available for support\, feedback\, and technique guidance\, bu
 t instruction is provided on an as-needed basis.\n\n\n\nParticipants are
  expected to assist with basic cleanup\, including: \n\n\n\n\nCleaning b
 rushes and palettes \n\n\n\nWiping down work areas\n\n\n\nProper disposa
 l of materials \n\n\n\n\nThis ensures the studio remains a welcoming\, h
 igh-quality environment for all—aligned with the shared responsibility
  ethos central to The Carpenter’s House .\n\n\n\n\n\n\nMATERIALS &amp\
 ; TOOL USE\nNon-consumable tools (easels\, brushes\, palettes\, etc.) ar
 e provided for shared use during the session.\n\n\n\nParticipants may:\n
 \n\n\n\nPurchase consumable materials on-site\n\n\n\nBring their own mat
 erials (subject to space and safety considerations)\n\n\n\n\nAll tools m
 ust be cleaned and returned to their designated areas at the end of the 
 session.\n\n\n\n\n\n\n\n\nMINIMUM ATTENDANCE\nSessions require a minimum
  number of participants to run. If minimum attendance is not met\, the s
 ession may be rescheduled or canceled. All registered participants will 
 be notified in advance and offered transfer or credit options.\n\n\n\n\n
 \n\n\n\n\n\nREFUNDS &amp\; TRANSFERS\nTickets are non-refundable. If you
  are unable to attend\, please contact us in advance. When possible\, we
  will accommodate transfers or provide credit toward a future session.\n
 \n\n\n\n\n\nLIABILITY &amp\; RESPONSIBILITY\nThis workshop involves hand
 s-on creative activity. By participating\, attendees acknowledge and acc
 ept responsibility for their personal safety\, materials\, and belonging
 s.\n\n\n\nThe Carpenter’s House is not responsible for damage to perso
 nal artwork or materials brought into the space.\n\n\n\n\n\n\nBEVERAGE S
 ERVICE\nAlcoholic beverages may be available for purchase during select 
 sessions. Valid ID is required for alcohol service. Please enjoy respons
 ibly and remain respectful of the shared studio environment.
URL;VALUE=URI:https://thecarpenters.house/sc_recurring_event/monthly-pai
 nt-and-sip-with-becky-bump-3-2/
UID:urn:uuid:78e70e3f-ed41-4e2e-9c77-828f3c5526eb
STATUS:CONFIRMED
ORGANIZER:
DTSTAMP:20260424T213917Z
DTSTART;TZID=UTC:20260912T100000
DTEND;TZID=UTC:20260912T120000
RRULE:FREQ=WEEKLY;INTERVAL=1
LOCATION:212 Legion Way SW
END:VEVENT
END:VCALENDAR