BEGIN:VCALENDAR
METHOD:PUBLISH
VERSION:2.0
CALSCALE:GREGORIAN
PRODID:-//NONSGML WPForms//NONSGML Sugar Calendar Feeds v3.11.0//EN
X-WR-CALNAME:LIVE-RECORDING-STUDIO-SESSIONS
X-WR-CALDESC:The Carpenter&#039\;s House
X-WR-TIMEZONE:UTC
BEGIN:VTIMEZONE
TZID:UTC
BEGIN:STANDARD
TZOFFSETFROM:+0000
TZOFFSETTO:+0000
DTSTART:20251120T060000
TZNAME:UTC
END:STANDARD
END:VTIMEZONE
BEGIN:VTIMEZONE
TZID:UTC
BEGIN:STANDARD
TZOFFSETFROM:+0000
TZOFFSETTO:+0000
DTSTART:20251120T060000
TZNAME:UTC
END:STANDARD
END:VTIMEZONE
BEGIN:VEVENT
SUMMARY:LIVE RECORDING STUDIO SESSIONS
DESCRIPTION:Step into a live recording environment and capture your soun
 d in a professional\, creative space.\n\n\n\nEach Thursday\, The Carpent
 er’s House and Tahoma Studio open the stage for short-format live reco
 rding sessions designed for musicians\, vocalists\, and small groups who
  want high-quality recordings without the complexity of a full studio bo
 oking.\n\n\n\nGreat for capturing a demo\, refining your sound\, or buil
 ding content to share\, these sessions provide a streamlined way to reco
 rd your music in a professional setting at an affordable rate.\n\n\n\nTh
 is is a focused\, efficient way to turn your performance into something 
 you can keep\, share\, and build on.\n\n\n\n\nLearn More About Tahoma St
 udio\n\n\n\n\n\n\n\n\nWHAT TO EXPECT\nEach session is designed to provid
 e a focused\, efficient recording experience within a professional creat
 ive environment. \n\n\n\nA Structured 30-Minute Session Your time block 
 is dedicated to capturing a live performance with minimal setup and clea
 r direction. \n\n\n\nProfessional Audio Capture We’ll record your perf
 ormance using a multi-track setup\, giving you clean stems to work from 
 after your session. \n\n\n\nGuided\, Efficient Workflow Our team will he
 lp you get set up quickly\, capture your performance\, and keep everythi
 ng moving smoothly. \n\n\n\nLive Performance Focus These sessions are de
 signed to capture real performances\, not build tracks from scratch. So 
 come prepared to play. \n\n\n\nOptional Post-Production After your sessi
 on\, you’ll have the option to upgrade your recording with mixing and 
 mastering services. \n\n\n\nA Creative\, Community Environment You’ll 
 be recording alongside other local artists in a shared studio night sett
 ing that is professional\, respectful\, and collaborative.\n\n\n\n\n\n\n
 WHAT'S INCLUDED\n\n30-minute live recording session\n\n\n\nMulti-track s
 tem capture\n\n\n\nProfessional setup and engineering support\n\n\n\n\nO
 ptional Add-Ons:\n\n\n\n\n$150 Mastering for release-ready audio\n\n\n\n
 $75 Stereo live print\n\n\n\n$150 Full post-production mix\n\n\n\n\n\n\n
 \n\n\n\n\n\n\nBOOKING &amp\; PAYMENT \nAll sessions must be booked in ad
 vance through our scheduling system.\n\n\n\nFull payment is required at 
 the time of booking to reserve your session.\n\n\n\nSessions are booked 
 in fixed 30-minute time blocks.\n\n\n\n\n\n\nSESSION TIMING\nSessions be
 gin and end at their scheduled time.\n\n\n\nPlease arrive according to t
 he Arrival &amp\; Setup Guidelines below.\n\n\n\nLate arrivals will resu
 lt in reduced session time\, as we are unable to extend sessions beyond 
 the scheduled block.\n\n\n\n\n\n\nARRIVAL &amp\; SETUP\nTo maintain reco
 rding quality and minimize disruption\, setup timing is structured based
  on the complexity of your performance.\n\n\n\n\n\n\nADVANCED SETUP\nRec
 ommended for Complex Setups\n\n\n\nPerformers with larger or more comple
 x setups are strongly encouraged to arrive between 3:30 PM and 5:30 PM t
 o stage equipment in the workshop room prior to session start. \n\n\n\nT
 his includes setups involving: \n\n\n\n\nDrum kits \n\n\n\n6 or more inp
 uts \n\n\n\nMultiple instruments\, pedals\, or routing requirements \n\n
 \n\n\nEarly staging ensures efficient transitions and prevents noise fro
 m affecting active recordings.\n\n\n\n\n\n\n\n\nSTANDARD ARRIVAL\nSolo a
 nd duo performers with minimal setups may arrive 5–10 minutes prior to
  their scheduled session time.\n\n\n\nSetup must be quick\, quiet\, and 
 respectful of any sessions already in progress.\n\n\n\n\n\n\nRESPECT FOR
  ACTIVE SESSIONS\nOnce sessions begin at 6:00 PM\, noise must be kept to
  a minimum.\n\n\n\nAll participants are expected to be mindful of perfor
 mers actively recording.\n\n\n\n\n\n\nALTERNATIVE ARRANGEMENTS\nIf the r
 ecommended early arrival window is not feasible\, accommodations may be 
 made upon request.\n\n\n\nPlease contact us in advance so we can coordin
 ate timing without impacting other sessions.\n\n\n\n\n\n\nCANCELLATION &
 amp\; RESCHEDULING\nCancellations or reschedule requests must be made at
  least 24 hours in advance of your session.\n\n\n\nRequests made within 
 24 hours are non-refundable and non-transferable.\n\n\n\nApproved resche
 dules are subject to availability.\n\n\n\n\n\n\n\n\nSESSION FORMAT &amp\
 ; DELIVERABLES\nEach session includes a live multi-track recording (stem
 s only).\n\n\n\nOptional add-ons (stereo print\, mixing\, mastering) are
  available and may be selected during or after your session.\n\n\n\n\n\n
 \nESTIMATED DELIVERY TIMELINES\nStems: within 48 hours\n\n\n\nPost-produ
 ction services: timeline provided upon request\n\n\n\n\n\n\nPERFORMER LI
 MIT\nSessions are limited to 1–3 performers maximum. This ensures adeq
 uate setup time\, sound quality\, and an efficient recording experience.
 \n\n\n\n\n\n\nSESSION SCOPE\nSessions are designed for focused live reco
 rding (e.g.\, capturing a song\, demo\, or performance segment).\n\n\n\n
 Extensive setup\, large ensembles\, or complex production workflows fall
  outside the scope of this format and may require a separate booking.\n\
 n\n\n\n\n\n\n\nEQUIPMENT &amp\; SETUP\nBasic recording setup and enginee
 ring support are provided.\n\n\n\nPerformers are responsible for bringin
 g and preparing their own instruments and equipment.\n\n\n\nAll equipmen
 t must be ready for efficient setup within the session structure.\n\n\n\
 nTCH reserves the right to adjust setup as needed to maintain timing and
  recording quality.\n\n\n\n\n\n\nCONDUCT &amp\; ENVIRONMENT\nThe Carpent
 er’s House is a community-centered\, professional creative space. All 
 participants are expected to treat staff\, equipment\, and fellow perfor
 mers with respect.\n\n\n\nTCH reserves the right to end a session withou
 t refund in cases of unsafe\, disruptive\, or inappropriate behavior.\n\
 n\n\n\n\n\nLIABILITY\nParticipants are responsible for their personal in
 struments and equipment.\n\n\n\nTCH is not liable for damage\, loss\, or
  theft of personal property brought into the space.\n\n\n\n\n\n\nAGREEME
 NT\nBy booking a session\, you acknowledge and agree to these policies.
URL;VALUE=URI:https://thecarpenters.house/sc_recurring_event/monthly-pai
 nt-and-sip-with-becky-bump-2/
UID:urn:uuid:78e70e3f-ed41-4e2e-9c77-828f3c5526eb
STATUS:CONFIRMED
ORGANIZER:
DTSTAMP:20260424T154541Z
DTSTART;TZID=UTC:20260521T180000
DTEND;TZID=UTC:20260521T210000
RRULE:FREQ=WEEKLY;INTERVAL=1
LOCATION:212 Legion Way SW
END:VEVENT
END:VCALENDAR