BEGIN:VCALENDAR
METHOD:PUBLISH
VERSION:2.0
CALSCALE:GREGORIAN
PRODID:-//NONSGML WPForms//NONSGML Sugar Calendar Feeds v3.11.0//EN
X-WR-CALNAME:FAMILY FUN PAINT CLASS
X-WR-CALDESC:The Carpenter&#039\;s House
X-WR-TIMEZONE:UTC
BEGIN:VTIMEZONE
TZID:UTC
BEGIN:STANDARD
TZOFFSETFROM:+0000
TZOFFSETTO:+0000
DTSTART:20251129T020000
TZNAME:UTC
END:STANDARD
END:VTIMEZONE
BEGIN:VTIMEZONE
TZID:UTC
BEGIN:STANDARD
TZOFFSETFROM:+0000
TZOFFSETTO:+0000
DTSTART:20251129T020000
TZNAME:UTC
END:STANDARD
END:VTIMEZONE
BEGIN:VEVENT
SUMMARY:FAMILY FUN PAINT CLASS
DESCRIPTION:Join us at The Carpenter’s House for a fun\, welcoming aft
 ernoon of creativity with our Family Fun Paint Class.\n\n\n\nThis guided
  workshop is designed for all ages and experience levels\, making it per
 fect for families\, kids\, and first-time painters. You’ll be led step
 -by-step through creating your own painting in a relaxed\, supportive en
 vironment.\n\n\n\n\nTickets Coming Soon\n\n\n\n\n\n\n\n\nWHAT TO EXPECT\
 n\nStep-by-step guided painting instruction\n\n\n\nA relaxed\, family-fr
 iendly environment\n\n\n\nMusic and a welcoming creative atmosphere\n\n\
 n\nTime to complete and take home your finished painting\n\n\n\nA fun\, 
 hands-on experience for all ages (5+)\n\n\n\n\n\n\n\nTICKET INCLUDES\n\n
 One seat in the workshop\n\n\n\nAll painting materials (canvas\, paints\
 , brushes\, supplies)\n\n\n\n11x14 canvas to take home\n\n\n\nFull guide
 d instruction\n\n\n\nAccess to the workshop experience\n\n\n\n\n\n\n\n\n
 \n\n\n\n\nREGISTRATION \nEach ticket is valid for one participant and in
 cludes all materials required for the workshop. All attendees must have 
 a ticket and will complete their own project unless otherwise specified.
 \n\n\n\n\n\n\nARRIVAL &amp\; TIMING\nPlease arrive 10–15 minutes prior
  to the scheduled start time. Workshops begin promptly to ensure the bes
 t experience for all participants.\n\n\n\n\n\n\nMINIMUM ATTENDANCE\nWork
 shops require a minimum number of participants to run. If minimum attend
 ance is not met\, the event may be rescheduled or canceled. All ticket h
 olders will be notified in advance and offered transfer or credit option
 s.\n\n\n\n\n\n\nREFUND &amp\; TRANSFER\nTickets are non-refundable. If y
 ou are unable to attend\, please contact us in advance. When possible\, 
 we will accommodate transfers or provide credit toward a future workshop
 .\n\n\n\n\n\n\n\n\nMATERIALS &amp\; CLEANUP\nAll materials are provided 
 unless otherwise noted. Participants are expected to respect the space a
 nd assist with basic cleanup as directed.\n\n\n\n\n\n\nLIABILITY &amp\; 
 RESPONSIBILITY\nWorkshops involve hands-on creative activity. By attendi
 ng\, participants acknowledge and accept responsibility for their person
 al safety and belongings during the event.\n\n\n\n\n\n\nFAMILY PARTICIPA
 TION\nThis workshop is designed for ages 5+. Children must be accompanie
 d by a parent or guardian. All attendees (including adults) must have a 
 ticket and will participate in the activity.
URL;VALUE=URI:https://thecarpenters.house/events/family-fun-paint-class/
UID:urn:uuid:36e85cd9-aa95-46a1-b32a-8fd5da6b3564
STATUS:CONFIRMED
ORGANIZER:
DTSTAMP:20260424T154126Z
DTSTART;TZID=UTC:20260530T140000
DTEND;TZID=UTC:20260530T160000
LOCATION:212 Legion Way SW
END:VEVENT
END:VCALENDAR