BEGIN:VCALENDAR
METHOD:PUBLISH
VERSION:2.0
CALSCALE:GREGORIAN
PRODID:-//NONSGML WPForms//NONSGML Sugar Calendar Feeds v3.11.0//EN
X-WR-CALNAME:ARTS WALK OLYMPIA
X-WR-CALDESC:The Carpenter&#039\;s House
X-WR-TIMEZONE:UTC
BEGIN:VTIMEZONE
TZID:UTC
BEGIN:STANDARD
TZOFFSETFROM:+0000
TZOFFSETTO:+0000
DTSTART:20251023T120000
TZNAME:UTC
END:STANDARD
END:VTIMEZONE
BEGIN:VTIMEZONE
TZID:UTC
BEGIN:STANDARD
TZOFFSETFROM:+0000
TZOFFSETTO:+0000
DTSTART:20251023T120000
TZNAME:UTC
END:STANDARD
END:VTIMEZONE
BEGIN:VEVENT
SUMMARY:ARTS WALK OLYMPIA
DESCRIPTION:Olympia turns into a living\, breathing art piece during Art
 s Walk… and we’ll be right in the middle of it.\n\n\n\nJoin us for a
  weekend of movement\, music\, and making! The gallery is coming alive a
 nd nothing will stay still for long. Friday and Saturday\, stop through 
 The House for:\n\n\n\n\nVisual art from 23 talented local artists\n\n\n\
 nLive painting from our House Artists\n\n\n\nOpen studio sessions with T
 ahoma Studio: step in\, play\, record\, experiment\n\n\n\nLight bites by
  Chef Lela Cross\n\n\n\n\nLive Painting All Weekend Throughout Friday (
 4/24) and Saturday (4/25)\, our House Artists will be painting inside th
 e gallery in real time. The layering\, the second-guessing\, the “wait
 \, that actually works.” You can walk through\, hang out\, and watch t
 he work come to life as it’s happening.\n\n\n\nAnd when the brushes pa
 use\, the music picks up.\n\n\n\nFRIDAYNikko and The Nightshift | 7:00 P
 M (set before the procession)\n\n\n\nSATURDAYElevator Operator | 3:30 PM
  (set before the parade)\n\n\n\nCome celebrate\, catch a song\, bust a m
 ove\, and watch a painting take shape. See you next weekend\, Olympia!\n
 \n\n\n\nLEARN MORE ON FACEBOOK\n\n\n\n\n\n\n\n\nLIVE MUSIC SCHEDULE\n\nF
 RIDAY\n\nNikko and The Nightshift \n\n\n\n7:00 PM (set before the proces
 sion)\n\n\n\n\n\nSATURDAY\n\nElevator Operator \n\n\n\n3:30 PM (set befo
 re the parade)\n\n\n\n\n\n\n\n\n\nLIVE PAINTING WITH\n\nAsha Macdonald\n
 \n\n\nCrystal Moore\n\n\n\nKim Saltiel\n\n\n\nLarry Buckley\n\n\n\nLeah 
 Van Horn\n\n\n\nLinnie Hodge\n\n\n\nLuisa Nunez\n\n\n\nMargaret Lemke\n\
 n\n\nSteven Borelli\n\n\n\nTeonna St. Ours\n\n\n\n\n\n\n\nWHAT TO EXPECT
 \n\nExtended open gallery hours\n\n\n\nLight bites from Chef Lela Cross\
 n\n\n\nLive Painting both days\n\n\n\nLive music and open music studio h
 ours with Tahoma Studio\n\n\n\nFront row seats to Procession of the Spec
 ies Celebration
URL;VALUE=URI:https://thecarpenters.house/events/arts-walk-olympia/
UID:urn:uuid:78e70e3f-ed41-4e2e-9c77-828f3c5526eb
STATUS:CONFIRMED
ORGANIZER:
DTSTAMP:20260424T140959Z
DTSTART;VALUE=DATE:20260424
DTEND;VALUE=DATE:20260425
LOCATION:212 Legion Way SW
END:VEVENT
END:VCALENDAR