BEGIN:VCALENDAR
METHOD:PUBLISH
VERSION:2.0
CALSCALE:GREGORIAN
PRODID:-//NONSGML WPForms//NONSGML Sugar Calendar Feeds v3.11.0//EN
X-WR-CALNAME:ARTIST SHOWCASE: NATALI ART DECOR
X-WR-CALDESC:The Carpenter&#039\;s House
X-WR-TIMEZONE:UTC
BEGIN:VTIMEZONE
TZID:UTC
BEGIN:STANDARD
TZOFFSETFROM:+0000
TZOFFSETTO:+0000
DTSTART:20251031T053000
TZNAME:UTC
END:STANDARD
END:VTIMEZONE
BEGIN:VTIMEZONE
TZID:UTC
BEGIN:STANDARD
TZOFFSETFROM:+0000
TZOFFSETTO:+0000
DTSTART:20251031T053000
TZNAME:UTC
END:STANDARD
END:VTIMEZONE
BEGIN:VEVENT
SUMMARY:ARTIST SHOWCASE: NATALI ART DECOR
DESCRIPTION:Join us at The Carpenter’s House for an evening centered a
 round the work of Seattle-based artist Natali\, whose sculptural wall pi
 eces bring light\, texture\, and quiet movement into the spaces they inh
 abit.\n\n\n\nWorking with acrylic\, modeling paste\, resin\, and gold ac
 cents\, Natali creates dimensional surfaces that extend beyond tradition
 al painting. Her pieces shift with light\, revealing layered textures an
 d forms that feel both grounded and alive.\n\n\n\nNatali’s path to art
  is one of exploration and transformation. With a background in finance\
 , she found her way into this practice through a search for balance\, ev
 olving what began as a creative outlet into a deeply personal mode of ex
 pression. Her work draws on symbolic imagery—flowers\, animals\, and n
 atural forms—to evoke themes of strength\, harmony\, and change. Irise
 s\, koi fish\, owls\, horses\, and pomegranates appear as quiet storytel
 lers\, embedded within each piece.\n\n\n\nThroughout the evening\, guest
 s are invited to explore the gallery\, experience Natali’s collection 
 up close\, and enjoy a live string ensemble setting the tone for the nig
 ht. Light snacks and wine will be available.\n\n\n\nA silent auction fea
 turing one of Natali’s works will be open during the event\, offering 
 guests the opportunity to take home a piece from the collection.\n\n\n\n
 \nGet Tickets\n\n\n\n\n\n\n\n\nWHAT TO EXPECT\n\nA full gallery experien
 ce featuring Natali’s collection\n\n\n\nA live string ensemble setting
  the tone for the evening\n\n\n\nA silent auction of one of Natali’s o
 riginal works\n\n\n\nLight snacks and wine throughout the night\n\n\n\nT
 ime to connect with the artist\, fellow guests\, and the work\n\n\n\nA r
 elaxed\, come-and-go atmosphere\n\n\n\n\n\n\n\nTICKET INCLUDES\n\nEntry 
 to the full Artist Showcase experience\n\n\n\nLive music from a local st
 ring ensemble\n\n\n\nLight catering and wine\n\n\n\nAccess to the featur
 ed exhibition\n\n\n\nParticipation in the silent auction\n\n\n\nA chance
  to support local artists and the creative community
URL;VALUE=URI:https://thecarpenters.house/events/artist-showcase-natali-
 art-decor/
UID:urn:uuid:78e70e3f-ed41-4e2e-9c77-828f3c5526eb
STATUS:CONFIRMED
ORGANIZER:
DTSTAMP:20260424T154541Z
DTSTART;TZID=UTC:20260501T173000
DTEND;TZID=UTC:20260501T210000
LOCATION:212 Legion Way SW
END:VEVENT
END:VCALENDAR