BEGIN:VCALENDAR
METHOD:PUBLISH
VERSION:2.0
CALSCALE:GREGORIAN
PRODID:-//NONSGML WPForms//NONSGML Sugar Calendar Feeds v3.11.0//EN
X-WR-CALNAME:MURDER MYSTERY ART AUCTION
X-WR-CALDESC:The Carpenter&#039\;s House
X-WR-TIMEZONE:UTC
BEGIN:VTIMEZONE
TZID:UTC
BEGIN:STANDARD
TZOFFSETFROM:+0000
TZOFFSETTO:+0000
DTSTART:20251115T070000
TZNAME:UTC
END:STANDARD
END:VTIMEZONE
BEGIN:VTIMEZONE
TZID:UTC
BEGIN:STANDARD
TZOFFSETFROM:+0000
TZOFFSETTO:+0000
DTSTART:20251115T070000
TZNAME:UTC
END:STANDARD
END:VTIMEZONE
BEGIN:VEVENT
SUMMARY:MURDER MYSTERY ART AUCTION
DESCRIPTION:Are you here for the art... or for the truth? \n\n\n\nSometh
 ing unusual is happening… An art auction where every bid pulls you dee
 per into the story. A game of hidden motives. A room full of suspects…
  and collectors.\n\n\n\nIntroducing The Art of Murder\, an interactive\,
  murder mystery-themed art auction happening at The Carpenter's House Ma
 y 2026. \n\n\n\nFollow the clues. Question everything. Trust no one.Deta
 ils unfolding soon…\n\n\n\nFor now\, consider this your invitation.\n\
 n\n\n\nTickets Coming Soon\n\n\n\n\n\n\n\n\nWHAT TO EXPECT\n\nComing Soo
 n\n\n\n\n\n\n\n\nTICKET INCLUDES\n\nComing Soon
URL;VALUE=URI:https://thecarpenters.house/events/artist-showcase-natali-
 art-decor-2/
UID:urn:uuid:78e70e3f-ed41-4e2e-9c77-828f3c5526eb
STATUS:CONFIRMED
ORGANIZER:
DTSTAMP:20260424T154533Z
DTSTART;TZID=UTC:20260516T190000
DTEND;TZID=UTC:20260516T210000
LOCATION:212 Legion Way SW
END:VEVENT
END:VCALENDAR